Package: GenomicInteractionNodes Version: 1.11.2 Command: rm -rf GenomicInteractionNodes.buildbin-libdir && mkdir GenomicInteractionNodes.buildbin-libdir && /Users/biocbuild/BBS/utils/build-universal.sh GenomicInteractionNodes_1.11.2.tar.gz /Library/Frameworks/R.framework/Resources/bin/R GenomicInteractionNodes.buildbin-libdir StartedAt: 2025-02-10 00:55:13 -0500 (Mon, 10 Feb 2025) EndedAt: 2025-02-10 00:56:02 -0500 (Mon, 10 Feb 2025) EllapsedTime: 49.5 seconds RetCode: 0 Status: OK PackageFile: GenomicInteractionNodes_1.11.2.tgz PackageFileSize: 273.4 KiB