Package: GenomicInteractionNodes Version: 1.11.2 Command: /home/biocbuild/bbs-3.21-bioc/R/bin/R CMD check --install=check:GenomicInteractionNodes.install-out.txt --library=/home/biocbuild/bbs-3.21-bioc/R/site-library --timings GenomicInteractionNodes_1.11.2.tar.gz StartedAt: 2025-02-09 22:36:43 -0500 (Sun, 09 Feb 2025) EndedAt: 2025-02-09 22:44:17 -0500 (Sun, 09 Feb 2025) EllapsedTime: 454.5 seconds RetCode: 0 Status: OK CheckDir: GenomicInteractionNodes.Rcheck Warnings: 0