Package: GenomicInteractionNodes Version: 1.11.2 Command: /home/biocbuild/bbs-3.21-bioc/R/bin/R CMD INSTALL GenomicInteractionNodes StartedAt: 2025-02-12 15:39:18 -0500 (Wed, 12 Feb 2025) EndedAt: 2025-02-12 15:39:53 -0500 (Wed, 12 Feb 2025) EllapsedTime: 35.3 seconds RetCode: 0 Status: OK