Package: GenomicInteractionNodes Version: 1.11.2 Command: chmod a+r GenomicInteractionNodes -R && E:\biocbuild\bbs-3.21-bioc\R\bin\R.exe CMD build --keep-empty-dirs --no-resave-data GenomicInteractionNodes StartedAt: 2025-02-09 18:53:58 -0500 (Sun, 09 Feb 2025) EndedAt: 2025-02-09 18:56:19 -0500 (Sun, 09 Feb 2025) EllapsedTime: 140.8 seconds RetCode: 0 Status: OK PackageFile: GenomicInteractionNodes_1.11.2.tar.gz PackageFileSize: 248.5 KiB