Package: GenomicInteractionNodes Version: 1.11.2 Command: E:\biocbuild\bbs-3.21-bioc\R\bin\R.exe CMD check --no-multiarch --install=check:GenomicInteractionNodes.install-out.txt --library=E:\biocbuild\bbs-3.21-bioc\R\library --no-vignettes --timings GenomicInteractionNodes_1.11.2.tar.gz StartedAt: 2025-02-13 01:35:12 -0500 (Thu, 13 Feb 2025) EndedAt: 2025-02-13 01:43:18 -0500 (Thu, 13 Feb 2025) EllapsedTime: 485.2 seconds RetCode: 0 Status: OK CheckDir: GenomicInteractionNodes.Rcheck Warnings: 0