Package: GenomicInteractionNodes Version: 1.11.2 Command: E:\biocbuild\bbs-3.21-bioc\R\bin\R.exe CMD INSTALL GenomicInteractionNodes StartedAt: 2025-02-12 16:19:15 -0500 (Wed, 12 Feb 2025) EndedAt: 2025-02-12 16:20:02 -0500 (Wed, 12 Feb 2025) EllapsedTime: 46.3 seconds RetCode: 0 Status: OK