Package: GenomicInteractions Version: 1.41.0 Command: /home/biocbuild/R/R/bin/R CMD build --keep-empty-dirs --no-resave-data GenomicInteractions StartedAt: 2025-01-28 23:07:49 -0000 (Tue, 28 Jan 2025) EndedAt: 2025-01-28 23:12:16 -0000 (Tue, 28 Jan 2025) EllapsedTime: 267.1 seconds RetCode: 0 Status: OK PackageFile: GenomicInteractions_1.41.0.tar.gz PackageFileSize: 3.32 MiB