Package: GenomicInteractions Version: 1.41.0 Command: rm -rf GenomicInteractions.buildbin-libdir && mkdir GenomicInteractions.buildbin-libdir && /Users/biocbuild/BBS/utils/build-universal.sh GenomicInteractions_1.41.0.tar.gz /Library/Frameworks/R.framework/Resources/bin/R GenomicInteractions.buildbin-libdir StartedAt: 2025-02-05 00:41:36 -0500 (Wed, 05 Feb 2025) EndedAt: 2025-02-05 00:43:31 -0500 (Wed, 05 Feb 2025) EllapsedTime: 115.6 seconds RetCode: 0 Status: OK PackageFile: GenomicInteractions_1.41.0.tgz PackageFileSize: 4.005 MiB