Package: GenomicInteractions Version: 1.41.0 Command: /Library/Frameworks/R.framework/Resources/bin/R CMD check --install=check:GenomicInteractions.install-out.txt --library=/Library/Frameworks/R.framework/Resources/library --no-vignettes --timings GenomicInteractions_1.41.0.tar.gz StartedAt: 2025-02-04 20:42:40 -0500 (Tue, 04 Feb 2025) EndedAt: 2025-02-04 20:49:14 -0500 (Tue, 04 Feb 2025) EllapsedTime: 394.4 seconds RetCode: 0 Status: OK CheckDir: GenomicInteractions.Rcheck Warnings: 0