Package: GenomicInteractions Version: 1.41.0 Command: /Library/Frameworks/R.framework/Resources/bin/R CMD INSTALL GenomicInteractions StartedAt: 2025-02-04 15:27:31 -0500 (Tue, 04 Feb 2025) EndedAt: 2025-02-04 15:29:21 -0500 (Tue, 04 Feb 2025) EllapsedTime: 109.6 seconds RetCode: 0 Status: OK