Package: GenomicInteractions Version: 1.41.0 Command: /home/biocbuild/bbs-3.21-bioc/R/bin/R CMD build --keep-empty-dirs --no-resave-data GenomicInteractions StartedAt: 2025-02-04 17:21:10 -0500 (Tue, 04 Feb 2025) EndedAt: 2025-02-04 17:24:18 -0500 (Tue, 04 Feb 2025) EllapsedTime: 188.2 seconds RetCode: 0 Status: OK PackageFile: GenomicInteractions_1.41.0.tar.gz PackageFileSize: 3.456 MiB