Package: GenomicInteractions Version: 1.41.0 Command: /home/biocbuild/bbs-3.21-bioc/R/bin/R CMD check --install=check:GenomicInteractions.install-out.txt --library=/home/biocbuild/bbs-3.21-bioc/R/site-library --timings GenomicInteractions_1.41.0.tar.gz StartedAt: 2025-02-04 22:36:08 -0500 (Tue, 04 Feb 2025) EndedAt: 2025-02-04 22:44:13 -0500 (Tue, 04 Feb 2025) EllapsedTime: 484.5 seconds RetCode: 0 Status: OK CheckDir: GenomicInteractions.Rcheck Warnings: 0