Package: GenomicInteractions Version: 1.41.0 Command: /home/biocbuild/bbs-3.21-bioc/R/bin/R CMD INSTALL GenomicInteractions StartedAt: 2025-02-04 15:46:56 -0500 (Tue, 04 Feb 2025) EndedAt: 2025-02-04 15:48:25 -0500 (Tue, 04 Feb 2025) EllapsedTime: 88.9 seconds RetCode: 0 Status: OK