Package: GenomicInteractions Version: 1.41.0 Command: rm -rf GenomicInteractions.buildbin-libdir && mkdir GenomicInteractions.buildbin-libdir && E:\biocbuild\bbs-3.21-bioc\R\bin\R.exe CMD INSTALL --build --library=GenomicInteractions.buildbin-libdir GenomicInteractions_1.41.0.tar.gz StartedAt: 2025-02-05 08:00:34 -0500 (Wed, 05 Feb 2025) EndedAt: 2025-02-05 08:06:01 -0500 (Wed, 05 Feb 2025) EllapsedTime: 326.9 seconds RetCode: 0 Status: OK PackageFile: GenomicInteractions_1.41.0.zip PackageFileSize: 3.766 MiB