Package: GenomicInteractions Version: 1.41.0 Command: E:\biocbuild\bbs-3.21-bioc\R\bin\R.exe CMD INSTALL GenomicInteractions StartedAt: 2025-02-04 16:13:45 -0500 (Tue, 04 Feb 2025) EndedAt: 2025-02-04 16:17:12 -0500 (Tue, 04 Feb 2025) EllapsedTime: 206.0 seconds RetCode: 0 Status: OK