Package: GenomicOZone Version: 1.21.0 Command: rm -rf GenomicOZone.buildbin-libdir && mkdir GenomicOZone.buildbin-libdir && /Users/biocbuild/BBS/utils/build-universal.sh GenomicOZone_1.21.0.tar.gz /Library/Frameworks/R.framework/Resources/bin/R GenomicOZone.buildbin-libdir StartedAt: 2025-02-09 22:15:41 -0500 (Sun, 09 Feb 2025) EndedAt: 2025-02-09 22:16:03 -0500 (Sun, 09 Feb 2025) EllapsedTime: 22.4 seconds RetCode: 0 Status: OK PackageFile: GenomicOZone_1.21.0.tgz PackageFileSize: 1.327 MiB