Package: GenomicOZone Version: 1.21.0 Command: /Library/Frameworks/R.framework/Resources/bin/R CMD build --keep-empty-dirs --no-resave-data GenomicOZone StartedAt: 2025-02-04 16:25:54 -0500 (Tue, 04 Feb 2025) EndedAt: 2025-02-04 16:26:43 -0500 (Tue, 04 Feb 2025) EllapsedTime: 48.5 seconds RetCode: 0 Status: OK PackageFile: GenomicOZone_1.21.0.tar.gz PackageFileSize: 1.276 MiB