Package: GenomicOZone Version: 1.21.0 Command: /home/biocbuild/R/R/bin/R CMD check --install=check:GenomicOZone.install-out.txt --library=/home/biocbuild/R/R/site-library --no-vignettes --timings GenomicOZone_1.21.0.tar.gz StartedAt: 2025-01-28 10:55:55 -0000 (Tue, 28 Jan 2025) EndedAt: 2025-01-28 11:03:26 -0000 (Tue, 28 Jan 2025) EllapsedTime: 451.3 seconds RetCode: 0 Status: WARNINGS CheckDir: GenomicOZone.Rcheck Warnings: 6