Package: GenomicOZone Version: 1.21.0 Command: rm -rf GenomicOZone.buildbin-libdir && mkdir GenomicOZone.buildbin-libdir && /Users/biocbuild/BBS/utils/build-universal.sh GenomicOZone_1.21.0.tar.gz /Library/Frameworks/R.framework/Resources/bin/R GenomicOZone.buildbin-libdir StartedAt: 2025-02-10 00:55:13 -0500 (Mon, 10 Feb 2025) EndedAt: 2025-02-10 00:56:24 -0500 (Mon, 10 Feb 2025) EllapsedTime: 71.5 seconds RetCode: 0 Status: OK PackageFile: GenomicOZone_1.21.0.tgz PackageFileSize: 1.326 MiB