Package: GenomicOZone Version: 1.21.0 Command: /Library/Frameworks/R.framework/Resources/bin/R CMD build --keep-empty-dirs --no-resave-data GenomicOZone StartedAt: 2025-02-12 16:50:32 -0500 (Wed, 12 Feb 2025) EndedAt: 2025-02-12 16:52:55 -0500 (Wed, 12 Feb 2025) EllapsedTime: 143.0 seconds RetCode: 0 Status: OK PackageFile: GenomicOZone_1.21.0.tar.gz PackageFileSize: 1.275 MiB