Package: GenomicOZone Version: 1.21.0 Command: /home/biocbuild/bbs-3.21-bioc/R/bin/R CMD build --keep-empty-dirs --no-resave-data GenomicOZone StartedAt: 2025-02-04 17:21:15 -0500 (Tue, 04 Feb 2025) EndedAt: 2025-02-04 17:23:31 -0500 (Tue, 04 Feb 2025) EllapsedTime: 136.1 seconds RetCode: 0 Status: OK PackageFile: GenomicOZone_1.21.0.tar.gz PackageFileSize: 1.274 MiB