Package: GenomicOZone Version: 1.21.0 Command: /home/biocbuild/bbs-3.21-bioc/R/bin/R CMD INSTALL GenomicOZone StartedAt: 2025-02-09 15:45:44 -0500 (Sun, 09 Feb 2025) EndedAt: 2025-02-09 15:46:53 -0500 (Sun, 09 Feb 2025) EllapsedTime: 69.0 seconds RetCode: 0 Status: OK