Package: GenomicOZone Version: 1.21.0 Command: rm -rf GenomicOZone.buildbin-libdir && mkdir GenomicOZone.buildbin-libdir && E:\biocbuild\bbs-3.21-bioc\R\bin\R.exe CMD INSTALL --build --library=GenomicOZone.buildbin-libdir GenomicOZone_1.21.0.tar.gz StartedAt: 2025-02-10 07:49:42 -0500 (Mon, 10 Feb 2025) EndedAt: 2025-02-10 07:50:40 -0500 (Mon, 10 Feb 2025) EllapsedTime: 57.7 seconds RetCode: 0 Status: OK PackageFile: GenomicOZone_1.21.0.zip PackageFileSize: 1.325 MiB