Package: GenomicPlot Version: 1.5.3 Maintainer: Shuye Pu MaintainerEmail: shuye2009 at gmail.com git_url: https://git.bioconductor.org/packages/GenomicPlot git_branch: devel git_last_commit: efbf81a git_last_commit_date: 2025-01-30 16:52:25 -0500 (Thu, 30 Jan 2025)