Package: GenomicPlot Version: 1.5.3 Command: rm -rf GenomicPlot.buildbin-libdir && mkdir GenomicPlot.buildbin-libdir && /Users/biocbuild/BBS/utils/build-universal.sh GenomicPlot_1.5.3.tar.gz /Library/Frameworks/R.framework/Resources/bin/R GenomicPlot.buildbin-libdir StartedAt: 2025-02-04 22:17:33 -0500 (Tue, 04 Feb 2025) EndedAt: 2025-02-04 22:17:56 -0500 (Tue, 04 Feb 2025) EllapsedTime: 22.4 seconds RetCode: 0 Status: OK PackageFile: GenomicPlot_1.5.3.tgz PackageFileSize: 4.244 MiB