Package: GenomicPlot Version: 1.5.3 Command: /Library/Frameworks/R.framework/Resources/bin/R CMD build --keep-empty-dirs --no-resave-data GenomicPlot StartedAt: 2025-02-04 16:25:59 -0500 (Tue, 04 Feb 2025) EndedAt: 2025-02-04 16:26:53 -0500 (Tue, 04 Feb 2025) EllapsedTime: 53.5 seconds RetCode: 0 Status: OK PackageFile: GenomicPlot_1.5.3.tar.gz PackageFileSize: 4.096 MiB