Package: GenomicPlot Version: 1.5.3 Command: /Library/Frameworks/R.framework/Resources/bin/R CMD check --install=check:GenomicPlot.install-out.txt --library=/Library/Frameworks/R.framework/Resources/library --no-vignettes --timings GenomicPlot_1.5.3.tar.gz StartedAt: 2025-02-04 19:25:32 -0500 (Tue, 04 Feb 2025) EndedAt: 2025-02-04 19:29:09 -0500 (Tue, 04 Feb 2025) EllapsedTime: 217.5 seconds RetCode: 0 Status: OK CheckDir: GenomicPlot.Rcheck Warnings: 0