Package: GenomicPlot Version: 1.5.3 Command: /Library/Frameworks/R.framework/Resources/bin/R CMD INSTALL GenomicPlot StartedAt: 2025-02-04 15:28:21 -0500 (Tue, 04 Feb 2025) EndedAt: 2025-02-04 15:28:42 -0500 (Tue, 04 Feb 2025) EllapsedTime: 20.7 seconds RetCode: 0 Status: OK