Package: GenomicPlot Version: 1.5.2 Command: /home/biocbuild/R/R/bin/R CMD build --keep-empty-dirs --no-resave-data GenomicPlot StartedAt: 2025-01-28 23:08:26 -0000 (Tue, 28 Jan 2025) EndedAt: 2025-01-28 23:10:21 -0000 (Tue, 28 Jan 2025) EllapsedTime: 115.1 seconds RetCode: 1 Status: ERROR PackageFile: None PackageFileSize: NA