Package: GenomicPlot Version: 1.5.2 Command: /home/biocbuild/R/R/bin/R CMD INSTALL GenomicPlot StartedAt: 2025-01-29 20:33:36 -0000 (Wed, 29 Jan 2025) EndedAt: 2025-01-29 20:34:46 -0000 (Wed, 29 Jan 2025) EllapsedTime: 70.5 seconds RetCode: 0 Status: OK