Package: GenomicPlot Version: 1.5.3 Command: /home/biocbuild/bbs-3.21-bioc/R/bin/R CMD build --keep-empty-dirs --no-resave-data GenomicPlot StartedAt: 2025-02-04 17:21:19 -0500 (Tue, 04 Feb 2025) EndedAt: 2025-02-04 17:23:57 -0500 (Tue, 04 Feb 2025) EllapsedTime: 158.2 seconds RetCode: 0 Status: OK PackageFile: GenomicPlot_1.5.3.tar.gz PackageFileSize: 3.751 MiB