Package: GenomicPlot Version: 1.5.3 Command: /home/biocbuild/bbs-3.21-bioc/R/bin/R CMD check --install=check:GenomicPlot.install-out.txt --library=/home/biocbuild/bbs-3.21-bioc/R/site-library --timings GenomicPlot_1.5.3.tar.gz StartedAt: 2025-02-04 22:36:40 -0500 (Tue, 04 Feb 2025) EndedAt: 2025-02-04 22:48:22 -0500 (Tue, 04 Feb 2025) EllapsedTime: 702.0 seconds RetCode: 0 Status: OK CheckDir: GenomicPlot.Rcheck Warnings: 0