Package: GenomicPlot Version: 1.5.3 Command: rm -rf GenomicPlot.buildbin-libdir && mkdir GenomicPlot.buildbin-libdir && E:\biocbuild\bbs-3.21-bioc\R\bin\R.exe CMD INSTALL --build --library=GenomicPlot.buildbin-libdir GenomicPlot_1.5.3.tar.gz StartedAt: 2025-02-05 08:00:44 -0500 (Wed, 05 Feb 2025) EndedAt: 2025-02-05 08:02:31 -0500 (Wed, 05 Feb 2025) EllapsedTime: 107.1 seconds RetCode: 0 Status: OK PackageFile: GenomicPlot_1.5.3.zip PackageFileSize: 1.911 MiB