Package: GenomicPlot Version: 1.5.3 Command: chmod a+r GenomicPlot -R && E:\biocbuild\bbs-3.21-bioc\R\bin\R.exe CMD build --keep-empty-dirs --no-resave-data GenomicPlot StartedAt: 2025-02-04 18:57:14 -0500 (Tue, 04 Feb 2025) EndedAt: 2025-02-04 19:04:53 -0500 (Tue, 04 Feb 2025) EllapsedTime: 458.6 seconds RetCode: 0 Status: OK PackageFile: GenomicPlot_1.5.3.tar.gz PackageFileSize: 1.766 MiB