Package: GenomicPlot Version: 1.5.3 Command: E:\biocbuild\bbs-3.21-bioc\R\bin\R.exe CMD check --no-multiarch --install=check:GenomicPlot.install-out.txt --library=E:\biocbuild\bbs-3.21-bioc\R\library --no-vignettes --timings GenomicPlot_1.5.3.tar.gz StartedAt: 2025-02-05 01:52:21 -0500 (Wed, 05 Feb 2025) EndedAt: 2025-02-05 02:31:10 -0500 (Wed, 05 Feb 2025) EllapsedTime: 2329.5 seconds RetCode: 0 Status: OK CheckDir: GenomicPlot.Rcheck Warnings: 0