Package: GenomicPlot Version: 1.5.3 Command: E:\biocbuild\bbs-3.21-bioc\R\bin\R.exe CMD INSTALL GenomicPlot StartedAt: 2025-02-04 16:53:22 -0500 (Tue, 04 Feb 2025) EndedAt: 2025-02-04 16:55:04 -0500 (Tue, 04 Feb 2025) EllapsedTime: 101.0 seconds RetCode: 0 Status: OK