Package: GenomicRanges Version: 1.59.1 Command: /Library/Frameworks/R.framework/Resources/bin/R CMD check --install=check:GenomicRanges.install-out.txt --library=/Library/Frameworks/R.framework/Resources/library --no-vignettes --timings GenomicRanges_1.59.1.tar.gz StartedAt: 2025-02-04 19:25:38 -0500 (Tue, 04 Feb 2025) EndedAt: 2025-02-04 19:27:11 -0500 (Tue, 04 Feb 2025) EllapsedTime: 93.0 seconds RetCode: 0 Status: OK CheckDir: GenomicRanges.Rcheck Warnings: 0