Package: GenomicRanges Version: 1.59.1 Command: /home/biocbuild/R/R/bin/R CMD check --install=check:GenomicRanges.install-out.txt --library=/home/biocbuild/R/R/site-library --no-vignettes --timings GenomicRanges_1.59.1.tar.gz StartedAt: 2025-01-28 10:57:07 -0000 (Tue, 28 Jan 2025) EndedAt: 2025-01-28 11:02:45 -0000 (Tue, 28 Jan 2025) EllapsedTime: 338.2 seconds RetCode: 0 Status: OK CheckDir: GenomicRanges.Rcheck Warnings: 0