Package: GenomicRanges Version: 1.59.1 Command: /Library/Frameworks/R.framework/Resources/bin/R CMD build --keep-empty-dirs --no-resave-data GenomicRanges StartedAt: 2025-02-09 16:53:10 -0500 (Sun, 09 Feb 2025) EndedAt: 2025-02-09 16:57:08 -0500 (Sun, 09 Feb 2025) EllapsedTime: 238.1 seconds RetCode: 0 Status: OK PackageFile: GenomicRanges_1.59.1.tar.gz PackageFileSize: 1.303 MiB