Package: GenomicRanges Version: 1.59.1 Command: /Library/Frameworks/R.framework/Resources/bin/R CMD INSTALL GenomicRanges StartedAt: 2025-02-12 15:08:55 -0500 (Wed, 12 Feb 2025) EndedAt: 2025-02-12 15:09:20 -0500 (Wed, 12 Feb 2025) EllapsedTime: 25.1 seconds RetCode: 0 Status: OK