Package: GenomicRanges Version: 1.59.1 Command: /home/biocbuild/bbs-3.21-bioc/R/bin/R CMD build --keep-empty-dirs --no-resave-data GenomicRanges StartedAt: 2025-02-09 17:23:12 -0500 (Sun, 09 Feb 2025) EndedAt: 2025-02-09 17:26:08 -0500 (Sun, 09 Feb 2025) EllapsedTime: 176.2 seconds RetCode: 0 Status: OK PackageFile: GenomicRanges_1.59.1.tar.gz PackageFileSize: 1.309 MiB