Package: GenomicRanges Version: 1.59.1 Command: /home/biocbuild/bbs-3.21-bioc/R/bin/R CMD check --install=check:GenomicRanges.install-out.txt --library=/home/biocbuild/bbs-3.21-bioc/R/site-library --timings GenomicRanges_1.59.1.tar.gz StartedAt: 2025-02-09 22:37:09 -0500 (Sun, 09 Feb 2025) EndedAt: 2025-02-09 22:44:28 -0500 (Sun, 09 Feb 2025) EllapsedTime: 439.5 seconds RetCode: 0 Status: OK CheckDir: GenomicRanges.Rcheck Warnings: 0