Package: GenomicRanges Version: 1.59.1 Command: rm -rf GenomicRanges.buildbin-libdir && mkdir GenomicRanges.buildbin-libdir && E:\biocbuild\bbs-3.21-bioc\R\bin\R.exe CMD INSTALL --build --library=GenomicRanges.buildbin-libdir GenomicRanges_1.59.1.tar.gz StartedAt: 2025-02-10 07:49:50 -0500 (Mon, 10 Feb 2025) EndedAt: 2025-02-10 07:53:03 -0500 (Mon, 10 Feb 2025) EllapsedTime: 192.9 seconds RetCode: 0 Status: OK PackageFile: GenomicRanges_1.59.1.zip PackageFileSize: 2.069 MiB