Package: GenomicScores Version: 2.19.1 Maintainer: Robert Castelo MaintainerEmail: robert.castelo at upf.edu git_url: https://git.bioconductor.org/packages/GenomicScores git_branch: devel git_last_commit: e3ad739 git_last_commit_date: 2025-02-01 05:07:55 -0500 (Sat, 01 Feb 2025)