Package: GenomicScores Version: 2.19.1 Command: rm -rf GenomicScores.buildbin-libdir && mkdir GenomicScores.buildbin-libdir && /Users/biocbuild/BBS/utils/build-universal.sh GenomicScores_2.19.1.tar.gz /Library/Frameworks/R.framework/Resources/bin/R GenomicScores.buildbin-libdir StartedAt: 2025-02-04 22:17:36 -0500 (Tue, 04 Feb 2025) EndedAt: 2025-02-04 22:17:50 -0500 (Tue, 04 Feb 2025) EllapsedTime: 14.3 seconds RetCode: 0 Status: OK PackageFile: GenomicScores_2.19.1.tgz PackageFileSize: 2.077 MiB