Package: GenomicScores Version: 2.19.1 Command: /Library/Frameworks/R.framework/Resources/bin/R CMD build --keep-empty-dirs --no-resave-data GenomicScores StartedAt: 2025-02-04 16:26:10 -0500 (Tue, 04 Feb 2025) EndedAt: 2025-02-04 16:27:01 -0500 (Tue, 04 Feb 2025) EllapsedTime: 50.5 seconds RetCode: 0 Status: OK PackageFile: GenomicScores_2.19.1.tar.gz PackageFileSize: 1.644 MiB