Package: GenomicScores Version: 2.19.1 Command: /Library/Frameworks/R.framework/Resources/bin/R CMD check --install=check:GenomicScores.install-out.txt --library=/Library/Frameworks/R.framework/Resources/library --no-vignettes --timings GenomicScores_2.19.1.tar.gz StartedAt: 2025-02-04 19:25:55 -0500 (Tue, 04 Feb 2025) EndedAt: 2025-02-04 19:27:27 -0500 (Tue, 04 Feb 2025) EllapsedTime: 92.0 seconds RetCode: 0 Status: OK CheckDir: GenomicScores.Rcheck Warnings: 0