Package: GenomicScores Version: 2.19.1 Command: /Library/Frameworks/R.framework/Resources/bin/R CMD INSTALL GenomicScores StartedAt: 2025-02-04 15:16:00 -0500 (Tue, 04 Feb 2025) EndedAt: 2025-02-04 15:16:39 -0500 (Tue, 04 Feb 2025) EllapsedTime: 39.0 seconds RetCode: 0 Status: OK