Package: GenomicScores Version: 2.19.1 Command: /home/biocbuild/bbs-3.21-bioc/R/bin/R CMD build --keep-empty-dirs --no-resave-data GenomicScores StartedAt: 2025-02-04 17:21:34 -0500 (Tue, 04 Feb 2025) EndedAt: 2025-02-04 17:23:41 -0500 (Tue, 04 Feb 2025) EllapsedTime: 127.1 seconds RetCode: 0 Status: OK PackageFile: GenomicScores_2.19.1.tar.gz PackageFileSize: 1.776 MiB