Package: GenomicScores Version: 2.19.1 Command: /home/biocbuild/bbs-3.21-bioc/R/bin/R CMD check --install=check:GenomicScores.install-out.txt --library=/home/biocbuild/bbs-3.21-bioc/R/site-library --timings GenomicScores_2.19.1.tar.gz StartedAt: 2025-02-04 22:37:04 -0500 (Tue, 04 Feb 2025) EndedAt: 2025-02-04 22:42:28 -0500 (Tue, 04 Feb 2025) EllapsedTime: 324.3 seconds RetCode: 0 Status: OK CheckDir: GenomicScores.Rcheck Warnings: 0